BEGIN:VCALENDAR
VERSION:2.0
PRODID:Events Booking
BEGIN:VEVENT
UID:69eba76d2aa4a
SUMMARY:2017 Annual General Meeting
DESCRIPTION:The 2017 PMI Nova Scotia Annual General Meeting will be held on
  Wednesday\, November 15th.&nbsp\; Come and hear what the chapter has been
  up to over the last year and hear about our plans going forward into 2017
 .
LOCATION:1575 Queen Street
DTSTART:20171115T200000Z
DTEND:20171115T213000Z
DTSTAMP:20260424T172501Z
ORGANIZER;CN=PMINS Chapter:MAILTO:info@pmins.ca
GEO:44.64419;-63.577483
X-APPLE-STRUCTURED-LOCATION;VALUE=URI;X-ADDRESS=1575 Queen Street;X-APPLE-R
 ADIUS=72;X-TITLE=Royal Artillery Park Officers Mess:44.64419;-63.577483
END:VEVENT
END:VCALENDAR