BEGIN:VCALENDAR
VERSION:2.0
PRODID:Events Booking
BEGIN:VEVENT
UID:69eba489ee953
SUMMARY:2017 Volunteer Appreciation Night
DESCRIPTION:As we trace the journey of an Electrical Engineer into the fiel
 d gratitude we discover the amazing power that gratitude can offer and lea
 rn two simple habits to be better Project Managers.&nbsp\;
LOCATION:1575 Queen Street
DTSTART:20171115T213000Z
DTEND:20171116T003000Z
DTSTAMP:20260424T171241Z
ORGANIZER;CN=PMINS Chapter:MAILTO:info@pmins.ca
GEO:44.64419;-63.577483
X-APPLE-STRUCTURED-LOCATION;VALUE=URI;X-ADDRESS=1575 Queen Street;X-APPLE-R
 ADIUS=72;X-TITLE=Royal Artillery Park Officers Mess:44.64419;-63.577483
END:VEVENT
END:VCALENDAR