BEGIN:VCALENDAR
VERSION:2.0
PRODID:Events Booking
BEGIN:VEVENT
UID:69eba47833f33
SUMMARY:2018 Holiday Social
DESCRIPTION:
LOCATION:1726 Argyle St\, Halifax\, NS B3J\, Canada
DTSTART:20181205T213000Z
DTEND:20181205T233000Z
DTSTAMP:20260424T171224Z
ORGANIZER;CN=PMINS Chapter:MAILTO:info@pmins.ca
GEO:44.647564;-63.575149
X-APPLE-STRUCTURED-LOCATION;VALUE=URI;X-ADDRESS=1726 Argyle St\, Halifax\, 
 NS B3J\, Canada;X-APPLE-RADIUS=72;X-TITLE=The Auction House:44.647564;-63.
 575149
END:VEVENT
END:VCALENDAR