BEGIN:VCALENDAR
VERSION:2.0
PRODID:Events Booking
BEGIN:VEVENT
UID:69eba71b6a7f1
SUMMARY:2018 Volunteer Appreciation Night with David Barrett
DESCRIPTION:The Project Management Ecosystem is Changing by the Day – Are
  you Ready?
LOCATION:1575 Queen Street
DTSTART:20181106T213000Z
DTEND:20181107T003000Z
DTSTAMP:20260424T172339Z
ORGANIZER;CN=PMINS Chapter:MAILTO:info@pmins.ca
GEO:44.64419;-63.577483
X-APPLE-STRUCTURED-LOCATION;VALUE=URI;X-ADDRESS=1575 Queen Street;X-APPLE-R
 ADIUS=72;X-TITLE=Royal Artillery Park Officers Mess:44.64419;-63.577483
END:VEVENT
END:VCALENDAR