BEGIN:VCALENDAR
VERSION:2.0
PRODID:Events Booking
BEGIN:VEVENT
UID:69eb9188a6f9c
SUMMARY:2021 Annual General Meeting
DESCRIPTION:Register now for the PMINS 2021 Annual General Meeting
 Upon r
 egistration\, you will receive&nbsp\; Zoom Meeting details.
 Our 2021 Ann
 ual Report\, 2020 AGM Minutes and 2020 Financial Statements will be availa
 ble on the PMINS web site for review.
 Please take a few minutes to revie
 w these documents prior to the scheduled meeting starting at 6:00 PM on No
 vember 24\, 2021.&nbsp\;&nbsp\;
DTSTART:20211124T220000Z
DTEND:20211124T230000Z
DTSTAMP:20260424T155136Z
ORGANIZER;CN=PMINS Chapter:MAILTO:info@pmins.ca
END:VEVENT
END:VCALENDAR