BEGIN:VCALENDAR
VERSION:2.0
PRODID:Events Booking
BEGIN:VEVENT
UID:69eba3db402d3
SUMMARY:A PMO Case Study
DESCRIPTION:Join us on September 29th at 5pm for \"A PMO Case Study\" by Mi
 ke Frenette\, Senior Project Manager\, IT PMO\, Halifax Water.
DTSTART:20210929T200000Z
DTEND:20210929T210000Z
DTSTAMP:20260424T170947Z
ORGANIZER;CN=PMINS Chapter:MAILTO:info@pmins.ca
END:VEVENT
END:VCALENDAR