BEGIN:VCALENDAR
VERSION:2.0
PRODID:Events Booking
BEGIN:VEVENT
UID:69eba43914ef4
SUMMARY:Agile Round Table & Panel Discussion
DESCRIPTION:NETWORK AND LEARN AT OUR&nbsp\;AGILE ROUND TABLE &amp\; PANEL D
 ISCUSSION!
 WHERE: 
 Barrington Tower\,16 Floor Conference Room\, 1894 B
 arrington Street (Scotia Square)\, Halifax\, Nova Scotia – Tower entranc
 e by Coles Books or Blue Cross
 Finger foods will be provided
DTSTART:20191024T200000Z
DTEND:20191024T223000Z
DTSTAMP:20260424T171121Z
ORGANIZER;CN=PMINS Chapter:MAILTO:info@pmins.ca
END:VEVENT
END:VCALENDAR