BEGIN:VCALENDAR
VERSION:2.0
PRODID:Events Booking
BEGIN:VEVENT
UID:69eba6c70d418
SUMMARY:Call for Proposals: An Opportunity to Chronicle your Project Succes
 ses or Lessons!
DESCRIPTION:
DTSTART:20190501T030000Z
DTEND:20190501T030000Z
DTSTAMP:20260424T172215Z
ORGANIZER;CN=PMINS Chapter:MAILTO:info@pmins.ca
END:VEVENT
END:VCALENDAR