BEGIN:VCALENDAR
VERSION:2.0
PRODID:Events Booking
BEGIN:VEVENT
UID:69eb93a1a97fd
SUMMARY:CANS: Women in Construction
DESCRIPTION:
 This workshop is an opportunity for the construction industr
 y in Nova Scotia to start the conversation about what its really going to 
 take to close the gender gap.
 This workshop is designed to help women un
 derstand what drives their ambition\, find ways to fuel it\, and overcome 
 what gets in the way.
 &nbsp\;
DTSTART:20210323T113000Z
DTEND:20210324T153000Z
DTSTAMP:20260424T160033Z
ORGANIZER;CN=PMINS Chapter:MAILTO:info@pmins.ca
END:VEVENT
END:VCALENDAR