BEGIN:VCALENDAR
VERSION:2.0
PRODID:Events Booking
BEGIN:VEVENT
UID:69eba5e8dd4a3
SUMMARY:CANSTech - the Construction Technology and Innovation Trade Show
DESCRIPTION:CANSTech - the Construction Technology and Innovation Trade Sho
 w
 Location: Cunard Center\, 961 Marginal Rd.\, Halifax\, NS B3H 4P7
 **
 *This Event is organized and brought to you by Construction Association of
  Nova Scotia***
 &nbsp\;Join us for CANSTech - the Construction Technolog
 y and Innovation Trade Show for the commercial\, industrial and institutio
 nal construction industry\, presented by Procore.
 CANSTech will take pla
 ce at the Cunard Centre in downtown Halifax\, Nova Scotia on February 27th
 \, and will unite interactive exhibitors and world-class speakers to showc
 ase new technologies\, upcoming trends and innovative products all under o
 ne roof. This event is FREE to attend and sessions may be relevant to prof
 essional development credit (PDUs).&nbsp\;&nbsp\;
DTSTART:20200227T120000Z
DTEND:20200227T200000Z
DTSTAMP:20260424T171832Z
ORGANIZER;CN=PMINS Chapter:MAILTO:info@pmins.ca
END:VEVENT
END:VCALENDAR