BEGIN:VCALENDAR
VERSION:2.0
PRODID:Events Booking
BEGIN:VEVENT
UID:69eba57cbb8b5
SUMMARY:Cape Breton PM Gathering
DESCRIPTION:The first of many opportunities for those interested in Project
  Management within CBRM to gather\, talk about the profession and connect 
 meaningfully.
DTSTART:20190527T190000Z
DTEND:20190527T210000Z
DTSTAMP:20260424T171644Z
ORGANIZER;CN=PMINS Chapter:MAILTO:info@pmins.ca
END:VEVENT
END:VCALENDAR