BEGIN:VCALENDAR
VERSION:2.0
PRODID:Events Booking
BEGIN:VEVENT
UID:69eba4d00de4d
SUMMARY:Delivering a Digital Building – Lessons Learned
DESCRIPTION:Where:&nbsp\; Emera Place&nbsp\;
 Address:&nbsp\; 5151 Termina
 l Road\, Halifax\, Nova Scotia&nbsp\;
 Important: Enter the building from
  5151 Terminal&nbsp\;road\, come to the main door\, there will be someone 
 there to let you in. We will plan to have some on at the door until 5:45pm
 \, after that time you will not&nbsp\; be able to enter the building. Plea
 se let us know if you are going to be later and we will try to have someon
 e let you in.
 &nbsp\;
 Emera is proud to be headquartered in Nova Scoti
 a\, and its brand-new Halifax campus\, Emera Place\, is recognized by Cisc
 o as being the smartest building in Canada.
DTSTART:20191126T213000Z
DTEND:20191126T230000Z
DTSTAMP:20260424T171352Z
ORGANIZER;CN=PMINS Chapter:MAILTO:info@pmins.ca
END:VEVENT
END:VCALENDAR