BEGIN:VCALENDAR
VERSION:2.0
PRODID:Events Booking
BEGIN:VEVENT
UID:69eb91bb13215
SUMMARY:February 2020 Lunch & Learn
DESCRIPTION:Location:&nbsp\; Barrington Tower\,16 Floor Conference Room\, 1
 894 Barrington Street (Scotia Square)\, Halifax\, Nova Scotia – Tower en
 trance by Coles Books or Blue Cross
 With millions of members worldwide\,
  LinkedIn is a fundamental personal branding tool that no professional sho
 uld be without. Never has it been more important to develop and maintain y
 our LinkedIn profile. Not only is it a way to connect with others\, it all
 ows others to learn about YOU and it’s jam packed with lots of helpful r
 esources!
DTSTART:20200227T160000Z
DTEND:20200227T170000Z
DTSTAMP:20260424T155227Z
ORGANIZER;CN=PMINS Chapter:MAILTO:info@pmins.ca
END:VEVENT
END:VCALENDAR