BEGIN:VCALENDAR
VERSION:2.0
PRODID:Events Booking
BEGIN:VEVENT
UID:69ebb7ed98f12
SUMMARY:February Lunch n Learn: Rethinking Requirements for optimum project
  success - Natural Language Processing Approach
DESCRIPTION:According to PMI’s Pulse of the Profession\, “When projects
  do not meet their original goals and project objectives\, inaccurate busi
 ness analysis/requirements management is cited as the primary cause 47% of
  the time.” And the increasing scale and complexity of projects is makin
 g it extremely difficult to assess and verify the project requirements. As
  a result - a huge amount of critical errors in project and systems develo
 pment arise in the initial concept &amp\; design stages.
DTSTART:20180220T160000Z
DTEND:20180220T170000Z
DTSTAMP:20260424T183525Z
ORGANIZER;CN=PMINS Chapter:MAILTO:info@pmins.ca
END:VEVENT
END:VCALENDAR