BEGIN:VCALENDAR
VERSION:2.0
PRODID:Events Booking
BEGIN:VEVENT
UID:69eba6f55e07b
SUMMARY:GoodLife Fitness Health & Wellness Leadership Summit
DESCRIPTION:
DTSTART:20190507T120000Z
DTEND:20190507T190000Z
DTSTAMP:20260424T172301Z
ORGANIZER;CN=PMINS Chapter:MAILTO:info@pmins.ca
END:VEVENT
END:VCALENDAR