BEGIN:VCALENDAR
VERSION:2.0
PRODID:Events Booking
BEGIN:VEVENT
UID:69eb94de9fa55
SUMMARY:Holiday Social 2021
DESCRIPTION:Holiday Social 2021
 Where: Off Track Brewing\, Bedford\, Nova
  Scotia
 What: Beer Tasting
 When: December 2\, 7pm-9pm
 Who: Members &
  Non-Members
  
 **As a member\, don't forget to make sure you are logg
 ed in to get this event for free**
 *This event has participant capacity.
   If you find you are unable to attend\, please advise events@pmins.ca 
 to cancel your registration so that someone else may attend.*
  
  
 
 Details:
 -Vaccine passport and registration is mandatory (due to COVID g
 athering limits)
 -Flight sampling of four (4) local beers\, drink ticket
 \, taxi cash\, and door prizes!
 -Networking & Snacks
 -Masks must be wo
 rn when not seated
 -Venue's Website: https://www.offtrackbrewing.ca/
 
  
 Please consider your transportion at this event.  
 Casino Taxi is 
 great option to safely get you to your destination Casino Taxi | Web Book
 er (icabbi.com)
LOCATION:275 Rocky Lake Dr\, Bedford\, NS B4A 2T3\, Canada
DTSTART:20211202T230000Z
DTEND:20211203T010000Z
DTSTAMP:20260424T160550Z
ORGANIZER;CN=PMINS Chapter:MAILTO:info@pmins.ca
GEO:44.737053;-63.647275
X-APPLE-STRUCTURED-LOCATION;VALUE=URI;X-ADDRESS=275 Rocky Lake Dr\, Bedford
 \, NS B4A 2T3\, Canada;X-APPLE-RADIUS=72;X-TITLE=Off Track Brewing:44.7370
 53;-63.647275
END:VEVENT
END:VCALENDAR