BEGIN:VCALENDAR
VERSION:2.0
PRODID:Events Booking
BEGIN:VEVENT
UID:69ebb72e03550
SUMMARY:Lunch and Learn: How to effectively work with a recruiter - for pro
 ject managers?
DESCRIPTION:How to effectively work with a Recruiter as a Project Manager f
 rom both the candidate and client perspective. Using real life examples an
 d some humour\, you will enjoy this hour and gain valuable insider informa
 tion to move your career and/or company forward.
LOCATION:5440 Spring Garden Rd
DTSTART:20171018T150000Z
DTEND:20171018T160000Z
DTSTAMP:20260424T183214Z
ORGANIZER;CN=PMINS Chapter:MAILTO:info@pmins.ca
GEO:44.642407;-63.575009
X-APPLE-STRUCTURED-LOCATION;VALUE=URI;X-ADDRESS=5440 Spring Garden Rd;X-APP
 LE-RADIUS=72;X-TITLE=Halifax Library:44.642407;-63.575009
END:VEVENT
END:VCALENDAR