BEGIN:VCALENDAR
VERSION:2.0
PRODID:Events Booking
BEGIN:VEVENT
UID:69eba5cf20b8e
SUMMARY:Lunch & Learn: Agile Case Study: Improving cardiac care
DESCRIPTION:Agile Project Management can have many applications. Learn how 
 MOBIA is using Agile techniques to manage and improve cardiac care wait ti
 mes. 
 Speaker: Mike Duff
 Mike is a&nbsp\;Senior Project Manager\, MOBI
 A Technology Innovations
LOCATION:340 Wright Ave\, Dartmouth\, NS B3B 0B3\, Canada
DTSTART:20170920T150000Z
DTEND:20170920T160000Z
DTSTAMP:20260424T171807Z
ORGANIZER;CN=PMINS Chapter:MAILTO:info@pmins.ca
GEO:44.707072;-63.584787
X-APPLE-STRUCTURED-LOCATION;VALUE=URI;X-ADDRESS=340 Wright Ave\, Dartmouth\
 , NS B3B 0B3\, Canada;X-APPLE-RADIUS=72;X-TITLE=MOBIA Technology:44.707072
 ;-63.584787
END:VEVENT
END:VCALENDAR