BEGIN:VCALENDAR
VERSION:2.0
PRODID:Events Booking
BEGIN:VEVENT
UID:69eba5dacfca0
SUMMARY:Lunch & Learn: Lean Six Sigma - What Project Managers Need to Know
DESCRIPTION:This presentation will provide an overview of the Lean Six Sigm
 a method and describe how Lean Six Sigma supports a culture of continuous 
 improvement in the context of project management
LOCATION:1505 Barrington St\, Halifax\, NS B3J 3K5\, Canada
DTSTART:20190123T160000Z
DTEND:20190123T170000Z
DTSTAMP:20260424T171818Z
ORGANIZER;CN=PMINS Chapter:MAILTO:info@pmins.ca
GEO:44.644406;-63.571927
X-APPLE-STRUCTURED-LOCATION;VALUE=URI;X-ADDRESS=1505 Barrington St\, Halifa
 x\, NS B3J 3K5\, Canada;X-APPLE-RADIUS=72;X-TITLE=Volta Labs Classroom:44.
 644406;-63.571927
END:VEVENT
END:VCALENDAR