BEGIN:VCALENDAR
VERSION:2.0
PRODID:Events Booking
BEGIN:VEVENT
UID:69eba85b71582
SUMMARY:Managing Rehabilitation Projects with Unknown Final Scopes
DESCRIPTION:Join us on March 1st for \"Managing Rehabilitation Projects wit
 h Unknown Final Scopes\" with Daniel Yanez Sanchez\, Project Manager at th
 e Halifax-Dartmouth Bridge Commission.
DTSTART:20220301T160000Z
DTEND:20220301T170000Z
DTSTAMP:20260424T172859Z
ORGANIZER;CN=PMINS Chapter:MAILTO:info@pmins.ca
END:VEVENT
END:VCALENDAR