BEGIN:VCALENDAR
VERSION:2.0
PRODID:Events Booking
BEGIN:VEVENT
UID:69eba4259f4cc
SUMMARY:Test
DESCRIPTION:test
LOCATION:1575 Queen Street
DTSTART:20180523T150000Z
DTEND:20180523T160000Z
DTSTAMP:20260424T171101Z
ORGANIZER;CN=PMINS Chapter:MAILTO:info@pmins.ca
GEO:44.64419;-63.577483
X-APPLE-STRUCTURED-LOCATION;VALUE=URI;X-ADDRESS=1575 Queen Street;X-APPLE-R
 ADIUS=72;X-TITLE=Royal Artillery Park Officers Mess:44.64419;-63.577483
END:VEVENT
END:VCALENDAR