BEGIN:VCALENDAR
VERSION:2.0
PRODID:Events Booking
BEGIN:VEVENT
UID:69eba48d8df83
SUMMARY:Network 'n' Learn: How to Manage Agile Projects in MS Project
DESCRIPTION:Steve Caseley will walk us through a number of ways to use MS P
 roject for Agile projects and will guide us through the Planning\, Executi
 ng\, Monitoring and Controlling processes .
LOCATION:1990 Barrington St
DTSTART:20171123T220000Z
DTEND:20171124T000000Z
DTSTAMP:20260424T171245Z
ORGANIZER;CN=PMINS Chapter:MAILTO:info@pmins.ca
GEO:44.650565;-63.57577
X-APPLE-STRUCTURED-LOCATION;VALUE=URI;X-ADDRESS=1990 Barrington St;X-APPLE-
 RADIUS=72;X-TITLE=Delta Halifax:44.650565;-63.57577
END:VEVENT
END:VCALENDAR