BEGIN:VCALENDAR
VERSION:2.0
PRODID:Events Booking
BEGIN:VEVENT
UID:69ebb82b24d2a
SUMMARY:Network 'n' Learn: The Agile Mindset in Project Management
DESCRIPTION:
LOCATION:1990 Barrington St
DTSTART:20170329T203000Z
DTEND:20170329T230000Z
DTSTAMP:20260424T183627Z
ORGANIZER;CN=PMINS Chapter:MAILTO:info@pmins.ca
GEO:44.650565;-63.57577
X-APPLE-STRUCTURED-LOCATION;VALUE=URI;X-ADDRESS=1990 Barrington St;X-APPLE-
 RADIUS=72;X-TITLE=Delta Halifax:44.650565;-63.57577
END:VEVENT
END:VCALENDAR