BEGIN:VCALENDAR
VERSION:2.0
PRODID:Events Booking
BEGIN:VEVENT
UID:69eba463af4f4
SUMMARY:Networking For Results For Project Managers
DESCRIPTION:One-Day Networking Skill-Building Workshop
 After researching 
 this topic and using these skills for twenty-five years\, Michael Hughes\,
  North America’s Networking Guru\, is now living proof that skillful net
 working generates exceptional professional and personal success. DOUBLE yo
 ur networking results by investing just one day with THE Networking Guru.
 
 About the Speaker:
 From out-of-work professional to Chair of the Board
  of Directors of The Ottawa Chamber of Commerce\, one of Canada's oldest a
 nd most respected business organizations.
 From unpaid presenter to one o
 f only six Canadian Professional Speakers holding the prestigious Platinum
  Speaker Resource accreditation for Meeting Planners International\, the l
 argest worldwide body of meeting planners and conference organizers.
 Fro
 m the idea of creating a unique\, self-directed future to a six-figure con
 sulting practice based exclusively on building\, then leveraging a network
  of contacts\, colleagues and clients.
 Michael J. Hughes has spent over 
 45 years in the business world. He has invested the past twenty-plus years
  researching the wealth of networking information currently available\, ad
 ded his personal networking success and his experiences as a leader in net
 working organizations to create a proven approach that builds networking s
 kills\, accelerates networking performance and creates tangible results th
 rough his unique Networking For Results skills. Michael is the 2015&nbsp\;
 recipient of the Canadian Association of Professional Speakers' Warren Eva
 ns Spirit of CAPS Award
 Noon session will be with Genevieve Belben and C
 hantal Brine of Venor on the \"now of Networking online\"
LOCATION:30 Fairfax Dr\, Halifax\, NS B3S 1P1\, Canada
DTSTART:20171004T120000Z
DTEND:20171004T190000Z
DTSTAMP:20260424T171203Z
ORGANIZER;CN=PMINS Chapter:MAILTO:info@pmins.ca
GEO:44.659208;-63.672605
X-APPLE-STRUCTURED-LOCATION;VALUE=URI;X-ADDRESS=30 Fairfax Dr\, Halifax\, N
 S B3S 1P1\, Canada;X-APPLE-RADIUS=72;X-TITLE=Future Inns Halifax Hotel & C
 onference Centre:44.659208;-63.672605
END:VEVENT
END:VCALENDAR