BEGIN:VCALENDAR
VERSION:2.0
PRODID:Events Booking
BEGIN:VEVENT
UID:69eba4397cbf5
SUMMARY:October 2019 Lunch & Learn
DESCRIPTION:Location:&nbsp\;Barrington Tower\,&nbsp\;17th Floor Conference 
 Room\, 1894 Barrington Street (Scotia Square)\, Halifax\, Nova Scotia – 
 Tower entrance by Coles Books or Blue Cross
 The 2019 season marked the 1
 01st anniversary of the Memorial Cup.&nbsp\; Last hosted in 2000\, Halifax
  waited for almost 20 years to see the Memorial Cup return.&nbsp\; From Ma
 y 16th to 26th\, 2019\, in celebration of the Halifax Mooseheads' 25th ann
 iversary\, sell-out crowds of more than 10\,000 fans per game\, 500+ volun
 teers\, and the City of Halifax played host to the Canadian Hockey League'
 s elite.&nbsp\; This was obviously a significant undertaking and required 
 detailed planning to ensure a successful event.&nbsp\; Grant MacDonald is 
 pleased to share the experience and lessons learned with the PMI – Nova 
 Scotia Chapter and our guests.&nbsp\; He is currently working on a new pro
 ject for the 2020 Women’s World Hockey Championship and is pleased to sh
 are details about this project as well.&nbsp\;
DTSTART:20191001T150000Z
DTEND:20191001T160000Z
DTSTAMP:20260424T171121Z
ORGANIZER;CN=PMINS Chapter:MAILTO:info@pmins.ca
END:VEVENT
END:VCALENDAR