BEGIN:VCALENDAR
VERSION:2.0
PRODID:Events Booking
BEGIN:VEVENT
UID:69eba2b253c9f
SUMMARY:PMI-ACP Study Group - Fall 2017
DESCRIPTION:Preparing to write the PMI-ACP exam?&nbsp\; Need some guidance/
 support or perhaps short of the required educational hours.&nbsp\; Our 7 w
 eeks of structured preparation for writing the Project Management Institut
 e's PMI-ACP Certification Exam is for you.
LOCATION:3372 Devonshire Ave\, Halifax\, NS B3K\, Canada
DTSTART:20171024T030000Z
DTEND:20171205T040000Z
DTSTAMP:20260424T170450Z
ORGANIZER;CN=PMINS Chapter:MAILTO:info@pmins.ca
GEO:44.666822;-63.602217
X-APPLE-STRUCTURED-LOCATION;VALUE=URI;X-ADDRESS=3372 Devonshire Ave\, Halif
 ax\, NS B3K\, Canada;X-APPLE-RADIUS=72;X-TITLE=Needham Community Centre:44
 .666822;-63.602217
END:VEVENT
END:VCALENDAR