BEGIN:VCALENDAR
VERSION:2.0
PRODID:Events Booking
BEGIN:VEVENT
UID:69eba3d88cf2b
SUMMARY:PMI-ACP Study Group - Fall 2018
DESCRIPTION:
DTSTART:20180927T030000Z
DTEND:20181108T040000Z
DTSTAMP:20260424T170944Z
ORGANIZER;CN=PMINS Chapter:MAILTO:info@pmins.ca
END:VEVENT
END:VCALENDAR