BEGIN:VCALENDAR
VERSION:2.0
PRODID:Events Booking
BEGIN:VEVENT
UID:69ebe0241fa7c
SUMMARY:PMI Nova Scotia Chapter 20th Anniversary Celebration
DESCRIPTION:
LOCATION:1055 Marginal Road Halifax\, Nova Scotia Canada B3H 4P7
DTSTART:20180926T210000Z
DTEND:20180927T000000Z
DTSTAMP:20260424T212700Z
ORGANIZER;CN=PMINS Chapter:MAILTO:info@pmins.ca
GEO:44.638093;-63.56533
X-APPLE-STRUCTURED-LOCATION;VALUE=URI;X-ADDRESS=1055 Marginal Road Halifax\
 , Nova Scotia Canada B3H 4P7;X-APPLE-RADIUS=72;X-TITLE=Pier 21:44.638093;-
 63.56533
END:VEVENT
END:VCALENDAR