BEGIN:VCALENDAR
VERSION:2.0
PRODID:Events Booking
BEGIN:VEVENT
UID:69eba62c3a91a
SUMMARY:PMI NS 2018 Summer Social - July 12
DESCRIPTION:Come network with other professionals\, volunteers and friends 
 of PMI-NS for a fun and social couple of hours after work. It is an excell
 ent time to meet others in Nova Scotia’s PM community and enjoy some foo
 d and beverages in a great downtown location.
 Those who register for the
  event prior to July 10th will receive a free beverage ticket at the event
 \, so be sure to register!
 Hosted by PMI Nova Scotia’s Board of Direct
 ors
LOCATION:1496 Lower Water St
DTSTART:20180712T203000Z
DTEND:20180712T223000Z
DTSTAMP:20260424T171940Z
ORGANIZER;CN=PMINS Chapter:MAILTO:info@pmins.ca
GEO:44.644088;-63.570025
X-APPLE-STRUCTURED-LOCATION;VALUE=URI;X-ADDRESS=1496 Lower Water St;X-APPLE
 -RADIUS=72;X-TITLE=The Red Stag Tavern:44.644088;-63.570025
END:VEVENT
END:VCALENDAR