BEGIN:VCALENDAR
VERSION:2.0
PRODID:Events Booking
BEGIN:VEVENT
UID:69eba4786186d
SUMMARY:PMI NS Chapter Introduces Partnership with ProjectTalks
DESCRIPTION:PMI NS Chapter is excited to partner with ProjectTalksthis June
  12\, 2019 to bring you 4 quality speakers\, 4 great topics in 2 short hou
 rs at Scotia Square\, 1894 Barrington Street\, 16th Floor\, Barrington Tow
 er\, Halifax\, NS.
DTSTART:20190612T113000Z
DTEND:20190612T133000Z
DTSTAMP:20260424T171224Z
ORGANIZER;CN=PMINS Chapter:MAILTO:info@pmins.ca
END:VEVENT
END:VCALENDAR