BEGIN:VCALENDAR
VERSION:2.0
PRODID:Events Booking
BEGIN:VEVENT
UID:69eba48d0e3e3
SUMMARY:PMI NS Holiday Social
DESCRIPTION:Where:&nbsp\; Pickford &amp\; Black\, 1869 UpperWater Street\, 
 Halifax&nbsp\;
 Come network with other professionals\, volunteers and fr
 iends of PMI-NS for a fun and social couple of hours after work.
 The PMI
 NS 2019 Annual General Meeting will also be held at this same location jus
 t prior from 5:00 to 5:30 PM. The Holiday Social will follow immediately a
 fter.&nbsp\;&nbsp\;
 &nbsp\;
DTSTART:20191204T213000Z
DTEND:20191204T233000Z
DTSTAMP:20260424T171245Z
ORGANIZER;CN=PMINS Chapter:MAILTO:info@pmins.ca
END:VEVENT
END:VCALENDAR