BEGIN:VCALENDAR
VERSION:2.0
PRODID:Events Booking
BEGIN:VEVENT
UID:69eba59dd82b1
SUMMARY:PMI NS Summer Social
DESCRIPTION:Come network with other professionals\, volunteers and friends 
 of PMI-NS for a fun and social couple of hours after work. It is an excell
 ent time to meet new friends in Nova Scotia’s PM community and enjoy som
 e food and beverages in a great location downtown.
 Those who register fo
 r the event prior to July 13th will receive a free beverage ticket at the 
 event! So be sure to register!
 
LOCATION:1496 Lower Water St
DTSTART:20170713T203000Z
DTEND:20170713T223000Z
DTSTAMP:20260424T171717Z
ORGANIZER;CN=PMINS Chapter:MAILTO:info@pmins.ca
GEO:44.644088;-63.570025
X-APPLE-STRUCTURED-LOCATION;VALUE=URI;X-ADDRESS=1496 Lower Water St;X-APPLE
 -RADIUS=72;X-TITLE=The Red Stag Tavern:44.644088;-63.570025
END:VEVENT
END:VCALENDAR