BEGIN:VCALENDAR
VERSION:2.0
PRODID:Events Booking
BEGIN:VEVENT
UID:69eba478c7351
SUMMARY:PMINS Chapter Scholarship Fund
DESCRIPTION:
DTSTART:20190501T030000Z
DTEND:20190501T030000Z
DTSTAMP:20260424T171224Z
ORGANIZER;CN=PMINS Chapter:MAILTO:info@pmins.ca
END:VEVENT
END:VCALENDAR