BEGIN:VCALENDAR
VERSION:2.0
PRODID:Events Booking
BEGIN:VEVENT
UID:69eba5913b766
SUMMARY:PMI NS June Lunch and Learn - “The Project Mgmt Book of Knowledge
 : A Transition from 5th to 6th Editions” 
DESCRIPTION:&nbsp\;
 Come get a high level overview of what the net change
  is with the new edition of the PMBOK\, including its most valuable featur
 es and opportunity to ask questions.
 Primary Health Care\, Family Practi
 ce &amp\; Chronic Disease Management
 Mumford Professional Centre
 6960 
 Mumford Road\, Suite 0265 (Main Floor)
 Boardroom #105
 &nbsp\;
  The p
 arking is mall parking\, in front of Winners or Sobeys is the best bet
 D
 ate: June 27&nbsp\;
 (main level of the mall). Which is across the street
  from the Halifax Shopping Centre. You enter the mall at the doors located
  to the left of Shoppers Drug Mart (there are flags flying above the door)
 . Once in the mall to the left is Dalhousie Family Medicine\, you have to 
 enter their reception area and ring the doorbell at the door on the left h
 and wall for Primary Health Care\,
 
 You will need to sign in at the su
 ite door for access to the office and also need to sign the PMI NS registr
 ation list as present.
 &nbsp\;
LOCATION:6960 Mumford Rd #0265\, Halifax\, NS B3L 4P1\, Canada
DTSTART:20180627T150000Z
DTEND:20180627T160000Z
DTSTAMP:20260424T171705Z
ORGANIZER;CN=PMINS Chapter:MAILTO:info@pmins.ca
GEO:44.64507;-63.619488
X-APPLE-STRUCTURED-LOCATION;VALUE=URI;X-ADDRESS=6960 Mumford Rd #0265\, Hal
 ifax\, NS B3L 4P1\, Canada;X-APPLE-RADIUS=72;X-TITLE=Primary Health Care\,
  Family Practice & Chronic Disease Management:44.64507;-63.619488
END:VEVENT
END:VCALENDAR