BEGIN:VCALENDAR
VERSION:2.0
PRODID:Events Booking
BEGIN:VEVENT
UID:69eba4115566c
SUMMARY:PMP/CAPM Study Group - Winter 2017
DESCRIPTION:
LOCATION:1223 Lower Water St\, Halifax\, NS B3J 3S8\, Canada
DTSTART:20170207T040000Z
DTEND:20170425T030000Z
DTSTAMP:20260424T171041Z
ORGANIZER;CN=PMINS Chapter:MAILTO:info@pmins.ca
GEO:44.641621;-63.567731
X-APPLE-STRUCTURED-LOCATION;VALUE=URI;X-ADDRESS=1223 Lower Water St\, Halif
 ax\, NS B3J 3S8\, Canada;X-APPLE-RADIUS=72;X-TITLE=Nova Scotia Power/Emera
  Building:44.641621;-63.567731
END:VEVENT
END:VCALENDAR