BEGIN:VCALENDAR
VERSION:2.0
PRODID:Events Booking
BEGIN:VEVENT
UID:69ebb88dbd7b0
SUMMARY:PMP/CAPM Study Group - Winter 2018
DESCRIPTION:Preparing to write the PMP or CAPM exam? &nbsp\;Need some guida
 nce/support or perhaps short of the required educational hours. &nbsp\;Our
  11 weeks of structured preparation (over 12 weeks duration) for writing t
 he Project Management Institute's PMP and CAPM Certification Exams is for 
 you.
 &nbsp\;
 &nbsp\;
 &nbsp\;
LOCATION:1223 Lower Water St\, Halifax\, NS B3J 3S8\, Canada
DTSTART:20180227T090000Z
DTEND:20180515T030000Z
DTSTAMP:20260424T183805Z
ORGANIZER;CN=PMINS Chapter:MAILTO:info@pmins.ca
GEO:44.641621;-63.567731
X-APPLE-STRUCTURED-LOCATION;VALUE=URI;X-ADDRESS=1223 Lower Water St\, Halif
 ax\, NS B3J 3S8\, Canada;X-APPLE-RADIUS=72;X-TITLE=Nova Scotia Power/Emera
  Building:44.641621;-63.567731
END:VEVENT
END:VCALENDAR