BEGIN:VCALENDAR
VERSION:2.0
PRODID:Events Booking
BEGIN:VEVENT
UID:69eba4638527a
SUMMARY:PMP Study Group in Sydney
DESCRIPTION:Interested in becoming a PMP? Join the Project Management Profe
 ssional (PMP) Study Group beginning Tuesday\, February 5\, 2019 to prepare
  to write your PMP certification. Through 11 sessions\, (over the course o
 f 12 weeks) participants will work through the&nbsp\;PMBOK®&nbsp\;Guide\,
  6thEdition concepts with a PMP certified facilitator.&nbsp\;
 Price is $
 500 for members and $800 for non-members
LOCATION:103-37 Nepean St\, Sydney\, NS B1P 6A7\, Canada
DTSTART:20190205T040000Z
DTEND:20190205T040000Z
DTSTAMP:20260424T171203Z
ORGANIZER;CN=PMINS Chapter:MAILTO:info@pmins.ca
GEO:46.142956;-60.196591
X-APPLE-STRUCTURED-LOCATION;VALUE=URI;X-ADDRESS=103-37 Nepean St\, Sydney\,
  NS B1P 6A7\, Canada;X-APPLE-RADIUS=72;X-TITLE=Navigate Startup House:46.1
 42956;-60.196591
END:VEVENT
END:VCALENDAR