BEGIN:VCALENDAR
VERSION:2.0
PRODID:Events Booking
BEGIN:VEVENT
UID:69eba85b48053
SUMMARY:Portfolio & Project Maturity Assessments: When is the right time?
DESCRIPTION:Do you wonder if your processes and practices are outdated? How
  often should an organization conduct a Portfolio\, Program or Project mat
 urity assessment?The maturity level of any process or practice\, is evalua
 ted against attributes to make sure that what we do and how we do ‘it’
  ensures our efforts contribute to business objectives and project success
 es. When is the right time to measure the maturity of practice? If we keep
  in mind that the overall purpose is to identify opportunities to improve 
 how Portfolios\, Programs and Projects are managed\, we can often identify
  the right time (or times) to conduct the assessment. Then comes the inter
 esting part...planning\, organizing and conducting the assessment.Ultimate
 ly\, your investment in maturity assessments can lead to better project ou
 tcomes and experiences for teams\, leaders and project stakeholders.Let’
 s explore maturity assessment timing and triggers together.
DTSTART:20210615T150000Z
DTEND:20210615T160000Z
DTSTAMP:20260424T172859Z
ORGANIZER;CN=PMINS Chapter:MAILTO:info@pmins.ca
END:VEVENT
END:VCALENDAR