BEGIN:VCALENDAR
VERSION:2.0
PRODID:Events Booking
BEGIN:VEVENT
UID:69eba28a76ce5
SUMMARY:Professional Development Summit - Evolve 2019
DESCRIPTION:
DTSTART:20190430T110000Z
DTEND:20190430T200000Z
DTSTAMP:20260424T170410Z
ORGANIZER;CN=PMINS Chapter:MAILTO:info@pmins.ca
END:VEVENT
END:VCALENDAR