BEGIN:VCALENDAR
VERSION:2.0
PRODID:Events Booking
BEGIN:VEVENT
UID:69eba26333d97
SUMMARY:Professional Development Workshop - From a Good Project Manager to 
 a Great Leader
DESCRIPTION:Today’s organizations are looking for tomorrow’s leadership
  team.&nbsp\;&nbsp\;As a good project manager\, the next step in your care
 er could very well take you to this next level: senior leadership.&nbsp\;
LOCATION:1575 Queen Street
DTSTART:20181107T123000Z
DTEND:20181107T203000Z
DTSTAMP:20260424T170331Z
ORGANIZER;CN=PMINS Chapter:MAILTO:info@pmins.ca
GEO:44.64419;-63.577483
X-APPLE-STRUCTURED-LOCATION;VALUE=URI;X-ADDRESS=1575 Queen Street;X-APPLE-R
 ADIUS=72;X-TITLE=Royal Artillery Park Officers Mess:44.64419;-63.577483
END:VEVENT
END:VCALENDAR