BEGIN:VCALENDAR
VERSION:2.0
PRODID:Events Booking
BEGIN:VEVENT
UID:69eba4d32b97c
SUMMARY:Resume & Career Skills
DESCRIPTION:Join us on October 13th at 12pm for \"Resume &amp\; Career Skil
 ls\" with Vinica Mordani\, Human Resources Project Coordinator at United W
 ay East Ontario and Sukhanya Sundaram\, Human Resources Generalist at Giat
 ec Scientific Inc.&nbsp\;
DTSTART:20211013T150000Z
DTEND:20211013T160000Z
DTSTAMP:20260424T171355Z
ORGANIZER;CN=PMINS Chapter:MAILTO:info@pmins.ca
END:VEVENT
END:VCALENDAR