BEGIN:VCALENDAR
VERSION:2.0
PRODID:Events Booking
BEGIN:VEVENT
UID:69eba7a50008a
SUMMARY:Rocky Road - The Journey from Project Manager to Agile Scrum Master
DESCRIPTION:
DTSTART:20190307T160000Z
DTEND:20190307T170000Z
DTSTAMP:20260424T172557Z
ORGANIZER;CN=PMINS Chapter:MAILTO:info@pmins.ca
END:VEVENT
END:VCALENDAR