BEGIN:VCALENDAR
VERSION:2.0
PRODID:Events Booking
BEGIN:VEVENT
UID:69eba5cf4aef4
SUMMARY:Servant Leadership “Gratitude as a Management Routine”
DESCRIPTION:Join us on January 28 for a lunch and learn session on \"Servan
 t Leadership - Gratitude as a Management Routine\" with Nitasha Nijhawan.
DTSTART:20220128T160000Z
DTEND:20220128T170000Z
DTSTAMP:20260424T171807Z
ORGANIZER;CN=PMINS Chapter:MAILTO:info@pmins.ca
END:VEVENT
END:VCALENDAR