BEGIN:VCALENDAR
VERSION:2.0
PRODID:Events Booking
BEGIN:VEVENT
UID:69eba8b88c901
SUMMARY:Dinner Event: Sullivan’s Pond – Daylighting Shubenacadie Lakes 
 Ecosystem Project
DESCRIPTION:This is a landmark project that is helping restore the natural 
 functioning of the Shubenacadie lakes ecosystem.
LOCATION:30 Fairfax Dr\, Halifax\, NS B3S 1P1\, Canada
DTSTART:20190516T200000Z
DTEND:20190516T230000Z
DTSTAMP:20260424T173032Z
ORGANIZER;CN=PMINS Chapter:MAILTO:info@pmins.ca
GEO:44.659208;-63.672605
X-APPLE-STRUCTURED-LOCATION;VALUE=URI;X-ADDRESS=30 Fairfax Dr\, Halifax\, N
 S B3S 1P1\, Canada;X-APPLE-RADIUS=72;X-TITLE=Future Inns Halifax Hotel & C
 onference Centre:44.659208;-63.672605
END:VEVENT
END:VCALENDAR