BEGIN:VCALENDAR
VERSION:2.0
PRODID:Events Booking
BEGIN:VEVENT
UID:69eb94de756e8
SUMMARY:Technicolour Team Building - Sustaining the Engagement\, Cohesivene
 ss\, and Productivity of your Your High Performance Project Management Tea
 ms
DESCRIPTION:Tyler Hayden Webinar:&nbsp\; In this session Project Mangers wi
 ll be able to:
 &nbsp\;• discover what is needed for effective team sus
 taining strategy (3F’s)\,&nbsp\;
 • assess your team’s learning sty
 le (MIQ)\,&nbsp\;
 • build a reward and recognition strategy\,&nbsp\;

  • explore a quick start guide for progressive team engagement\, and&nbs
 p\;
 • access and implement hours of team building tools in-person and 
 remotely.&nbsp\;&nbsp\;
 &nbsp\;
DTSTART:20201027T130000Z
DTEND:20201027T180000Z
DTSTAMP:20260424T160550Z
ORGANIZER;CN=PMINS Chapter:MAILTO:info@pmins.ca
END:VEVENT
END:VCALENDAR