BEGIN:VCALENDAR
VERSION:2.0
PRODID:Events Booking
BEGIN:VEVENT
UID:69ebb518b6a4a
SUMMARY:Trivia Networking Night
DESCRIPTION:
LOCATION:1726 Argyle St\, Halifax\, NS B3J\, Canada
DTSTART:20180327T203000Z
DTEND:20180327T223000Z
DTSTAMP:20260424T182320Z
ORGANIZER;CN=PMINS Chapter:MAILTO:info@pmins.ca
GEO:44.647564;-63.575149
X-APPLE-STRUCTURED-LOCATION;VALUE=URI;X-ADDRESS=1726 Argyle St\, Halifax\, 
 NS B3J\, Canada;X-APPLE-RADIUS=72;X-TITLE=The Auction House:44.647564;-63.
 575149
END:VEVENT
END:VCALENDAR