BEGIN:VCALENDAR
VERSION:2.0
PRODID:Events Booking
BEGIN:VEVENT
UID:69eba5daa62a8
SUMMARY:WHATS NEXT? Your project management career
DESCRIPTION:Are you a Project Manager asking yourself &ldquo\;What&rsquo\;s
  Next?&rdquo\; Are you looking for career progression? Do you want somethi
 ng more? Whether you are looking for something more within your organizati
 on\, or ready to make a career change\, please join us for this Lunch and 
 Learn. We will cover a variety of topics which includes: - Demand for Proj
 ect Managers - Your resume - Interviewing
DTSTART:20170516T150000Z
DTEND:20170516T160000Z
DTSTAMP:20260424T171818Z
ORGANIZER;CN=PMINS Chapter:MAILTO:info@pmins.ca
END:VEVENT
END:VCALENDAR